BEGIN:VCALENDAR
VERSION:2.0
PRODID:-//Guttural - ECPv6.15.20//NONSGML v1.0//EN
CALSCALE:GREGORIAN
METHOD:PUBLISH
X-ORIGINAL-URL:https://gutturalband.com
X-WR-CALDESC:Events for Guttural
REFRESH-INTERVAL;VALUE=DURATION:PT1H
X-Robots-Tag:noindex
X-PUBLISHED-TTL:PT1H
BEGIN:VTIMEZONE
TZID:America/Chicago
BEGIN:DAYLIGHT
TZOFFSETFROM:-0600
TZOFFSETTO:-0500
TZNAME:CDT
DTSTART:20240310T080000
END:DAYLIGHT
BEGIN:STANDARD
TZOFFSETFROM:-0500
TZOFFSETTO:-0600
TZNAME:CST
DTSTART:20241103T070000
END:STANDARD
BEGIN:DAYLIGHT
TZOFFSETFROM:-0600
TZOFFSETTO:-0500
TZNAME:CDT
DTSTART:20250309T080000
END:DAYLIGHT
BEGIN:STANDARD
TZOFFSETFROM:-0500
TZOFFSETTO:-0600
TZNAME:CST
DTSTART:20251102T070000
END:STANDARD
BEGIN:DAYLIGHT
TZOFFSETFROM:-0600
TZOFFSETTO:-0500
TZNAME:CDT
DTSTART:20260308T080000
END:DAYLIGHT
BEGIN:STANDARD
TZOFFSETFROM:-0500
TZOFFSETTO:-0600
TZNAME:CST
DTSTART:20261101T070000
END:STANDARD
END:VTIMEZONE
BEGIN:VEVENT
DTSTART;TZID=America/Chicago:20250301T190000
DTEND;TZID=America/Chicago:20250301T220000
DTSTAMP:20260423T033613
CREATED:20250113T224438Z
LAST-MODIFIED:20250129T114939Z
UID:410-1740855600-1740866400@gutturalband.com
SUMMARY:Fargo Skatepark
DESCRIPTION:
URL:https://gutturalband.com/event/fargo-skatepark/
LOCATION:Fargo Skatepark\, 645 E Lincoln Hwy\, DeKalb\, Illinois\, 60115
ATTACH;FMTTYPE=image/jpeg:https://gutturalband.com/wp-content/uploads/2025/01/FargoSkate.jpg
END:VEVENT
BEGIN:VEVENT
DTSTART;TZID=America/Chicago:20250307T200000
DTEND;TZID=America/Chicago:20250307T230000
DTSTAMP:20260423T033613
CREATED:20250113T171945Z
LAST-MODIFIED:20250124T121331Z
UID:404-1741377600-1741388400@gutturalband.com
SUMMARY:Coffee & Carnage
DESCRIPTION:
URL:https://gutturalband.com/event/coffee-carnage/
LOCATION:Ashbary Coffee House\, 8695 Archer Ave #1\, Willow Springs\, Illinois\, 60480
ATTACH;FMTTYPE=image/jpeg:https://gutturalband.com/wp-content/uploads/2025/01/Ashbary.jpg
END:VEVENT
END:VCALENDAR