BEGIN:VCALENDAR
VERSION:2.0
PRODID:-//Guttural - ECPv6.15.20//NONSGML v1.0//EN
CALSCALE:GREGORIAN
METHOD:PUBLISH
X-WR-CALNAME:Guttural
X-ORIGINAL-URL:https://gutturalband.com
X-WR-CALDESC:Events for Guttural
REFRESH-INTERVAL;VALUE=DURATION:PT1H
X-Robots-Tag:noindex
X-PUBLISHED-TTL:PT1H
BEGIN:VTIMEZONE
TZID:America/Chicago
BEGIN:DAYLIGHT
TZOFFSETFROM:-0600
TZOFFSETTO:-0500
TZNAME:CDT
DTSTART:20230312T080000
END:DAYLIGHT
BEGIN:STANDARD
TZOFFSETFROM:-0500
TZOFFSETTO:-0600
TZNAME:CST
DTSTART:20231105T070000
END:STANDARD
BEGIN:DAYLIGHT
TZOFFSETFROM:-0600
TZOFFSETTO:-0500
TZNAME:CDT
DTSTART:20240310T080000
END:DAYLIGHT
BEGIN:STANDARD
TZOFFSETFROM:-0500
TZOFFSETTO:-0600
TZNAME:CST
DTSTART:20241103T070000
END:STANDARD
BEGIN:DAYLIGHT
TZOFFSETFROM:-0600
TZOFFSETTO:-0500
TZNAME:CDT
DTSTART:20250309T080000
END:DAYLIGHT
BEGIN:STANDARD
TZOFFSETFROM:-0500
TZOFFSETTO:-0600
TZNAME:CST
DTSTART:20251102T070000
END:STANDARD
END:VTIMEZONE
BEGIN:VEVENT
DTSTART;TZID=America/Chicago:20241102T190000
DTEND;TZID=America/Chicago:20241102T220000
DTSTAMP:20260423T085651
CREATED:20241027T191441Z
LAST-MODIFIED:20241027T191441Z
UID:137-1730574000-1730584800@gutturalband.com
SUMMARY:Aurora Awesomeness
DESCRIPTION:
URL:https://gutturalband.com/event/aurora-awesomeness/
LOCATION:Illinois
END:VEVENT
BEGIN:VEVENT
DTSTART;TZID=America/Chicago:20241116T170000
DTEND;TZID=America/Chicago:20241116T220000
DTSTAMP:20260423T085651
CREATED:20241027T191650Z
LAST-MODIFIED:20241028T151303Z
UID:139-1731776400-1731794400@gutturalband.com
SUMMARY:Joy Bomb Social
DESCRIPTION:
URL:https://gutturalband.com/event/joy-bomb-social/
LOCATION:Joy Bomb Social Center\, 2584 Clay St\, Gary\, IN\, 46405\, United States
END:VEVENT
END:VCALENDAR